BEGIN:VCALENDAR
VERSION:2.0
PRODID:-//hacksw/handcal//NONSGML v1.0//EN
BEGIN:VEVENT
SUMMARY:MONTAGNY
UID:403d0f52-2858-4a41-82bc-3ada77902ccd
DTSTART:20260426T220000Z
DTEND:20260427T220000Z
LOCATION:Localisation   
CATEGORIES:Sportif
STATUS:
DESCRIPTION:<p><strong>Responsable : Christine 
 BR</strong></p>
 
 <p><strong>Accompagnateurs :  Beatrice  DE  , 
 Patrick  DE , Jean- Marc  RO</strong></p>
 
 <p><strong>RDV :   
  Merlo  13 h</strong></p>
 
 <p><strong>7,5  km / D 80 
 m</strong></p>
 
 <p><b>Voiture : 9  €</b></p>
URL;VALUE=URI:https://www.cascol-rando.fr/evenements/2026/04/27/montagny-2419850
END:VEVENT
END:VCALENDAR
