BEGIN:VCALENDAR
VERSION:2.0
PRODID:-//hacksw/handcal//NONSGML v1.0//EN
BEGIN:VEVENT
SUMMARY:VIRIEU  LE  GRAND
UID:e6b58b6f-c3b9-4506-9b49-9919f2058ee5
DTSTART:20260427T220000Z
DTEND:20260428T220000Z
LOCATION:Localisation   
CATEGORIES:Sportif
STATUS:
DESCRIPTION:<p><strong>Responsable : Isabelle 
 SC</strong></p>
 
 <p><strong>RDV :    07 h 30 
 Arkema</strong></p>
 
 <p><strong>14  km / D 675 
  m</strong></p>
 
 <p><b>Voiture : 68  €</b></p>
URL;VALUE=URI:https://www.cascol-rando.fr/evenements/2026/04/28/virieu-le-grand-2420495
END:VEVENT
END:VCALENDAR
