BEGIN:VCALENDAR
VERSION:2.0
PRODID:-//hacksw/handcal//NONSGML v1.0//EN
BEGIN:VEVENT
SUMMARY:MORAS  EN  VALLOIRE
UID:f6d0ed62-e56c-4dd2-825d-b722592fc395
DTSTART:20260429T220000Z
DTEND:20260430T220000Z
LOCATION:Localisation   
CATEGORIES:Sportif
STATUS:
DESCRIPTION:<p><strong>Responsable : Patrick 
  LE</strong></p>
 
 <p><strong>RDV :    09 h 
  Arkema</strong></p>
 
 <p><strong> 11  km / D  239 
 m</strong></p>
 
 <p><b>Voiture :  36
 €</b></p>
 
 <p><b>MUGUET</b></p>
URL;VALUE=URI:https://www.cascol-rando.fr/evenements/2026/04/30/moras-en-valloire-2420496
END:VEVENT
END:VCALENDAR
