BEGIN:VCALENDAR
VERSION:2.0
PRODID:-//hacksw/handcal//NONSGML v1.0//EN
BEGIN:VEVENT
SUMMARY:MONT CINDRE
UID:c50676e4-0385-44ed-abd4-67c327f4f747
DTSTART:20260503T220000Z
DTEND:20260504T220000Z
LOCATION:Localisation   
CATEGORIES:Sportif
STATUS:
DESCRIPTION:<p><strong>Responsable : Sylviane 
 LI</strong></p>
 
 <p><strong>Accompagnateurs : Pascal  BE  , 
 Dominique  GA  ,  Renee  SA</strong></p>
 
 <p><strong>RDV :   
  Merlo  13 h</strong></p>
 
 <p><strong>7  km / D 250 
 m</strong></p>
 
 <p><b>Voiture : 8  €</b></p>
URL;VALUE=URI:https://www.cascol-rando.fr/evenements/2026/05/04/mont-cindre-2419852
END:VEVENT
END:VCALENDAR
