BEGIN:VCALENDAR
VERSION:2.0
PRODID:-//hacksw/handcal//NONSGML v1.0//EN
BEGIN:VEVENT
SUMMARY:SAINT DIDIER SOUS RIVERIE
UID:47da1a10-067a-47b7-aa7d-625b4e678221
DTSTART:20260531T220000Z
DTEND:20260601T220000Z
LOCATION:Localisation   
CATEGORIES:Sportif
STATUS:
DESCRIPTION:<p><strong>Responsable : Jean - Marc 
 RO</strong></p>
 
 <p><strong>Accompagnateurs : Nathalie  VE  , 
 Alain  DE  ,  Sylviane  LI</strong></p>
 
 <p><strong>RDV :   
  Merlo  8 h 30</strong></p>
 
 <p><strong>7,8 km / D 160 
 m</strong></p>
 
 <p><b>Voiture : 16  €</b></p>
URL;VALUE=URI:https://www.cascol-rando.fr/evenements/2026/06/01/saint-didier-sous-riverie-2419858
END:VEVENT
END:VCALENDAR
