BEGIN:VCALENDAR
VERSION:2.0
PRODID:-//hacksw/handcal//NONSGML v1.0//EN
BEGIN:VEVENT
SUMMARY:GRANDE TRAVERSEE  DU  JURA  SUD
UID:f3bdbc49-c5aa-4299-87e8-a0cd1de85c55
DTSTART:20260601T220000Z
DTEND:20260604T220000Z
LOCATION:Localisation   
CATEGORIES:Sportif
STATUS:
DESCRIPTION:<p><strong>Responsable : Isabelle 
  SC</strong></p>
 
 <p> </p>
URL;VALUE=URI:https://www.cascol-rando.fr/evenements/2026/06/02/grande-traversee-du-jura-sud-2420507
END:VEVENT
END:VCALENDAR
