BEGIN:VCALENDAR
VERSION:2.0
PRODID:-//hacksw/handcal//NONSGML v1.0//EN
BEGIN:VEVENT
SUMMARY:LA  GRANDE  SURE
UID:68c54a4e-ff78-4525-b42c-bbbfe530fcca
DTSTART:20260601T220000Z
DTEND:20260602T220000Z
LOCATION:Localisation   
CATEGORIES:Sportif
STATUS:
DESCRIPTION:<p><strong>Responsable : Jean- Marc 
  FR</strong></p>
 
 <p><strong>RDV :    07  h 
  Arkema</strong></p>
 
 <p><strong>12  km / D  780
 m</strong></p>
 
 <p><b>Voiture : 94  €</b></p>
URL;VALUE=URI:https://www.cascol-rando.fr/evenements/2026/06/02/la-grande-sure-2439661
END:VEVENT
END:VCALENDAR
