BEGIN:VCALENDAR
VERSION:2.0
PRODID:-//hacksw/handcal//NONSGML v1.0//EN
BEGIN:VEVENT
SUMMARY:SEJOUR  SAINT CHRISTOPHE EN BRIONNAIS
UID:6ca10d0d-b6bf-4086-82d3-61fea4e8f77b
DTSTART:20260601T220000Z
DTEND:20260604T220000Z
LOCATION:Localisation   
CATEGORIES:Sportif
STATUS:
DESCRIPTION:<p><strong>Responsable : Helene 
  OD</strong></p>
 
 <p><strong>Voir fiche sur le
 site</strong></p>
 
 <p> </p>
 
 <p><strong> 
  </strong></p>
 
 <p> </p>
 
 <p> </p>
URL;VALUE=URI:https://www.cascol-rando.fr/evenements/2026/06/02/sejour-saint-christophe-en-brionnais-2420506
END:VEVENT
END:VCALENDAR
