BEGIN:VCALENDAR
VERSION:2.0
PRODID:-//hacksw/handcal//NONSGML v1.0//EN
BEGIN:VEVENT
SUMMARY:NIOLON  /  LA  REDONNE  (COTE  BLEUE  )
UID:eaa3e9d8-d74c-40ca-b3b1-5b8f5baf9185
DTSTART:20260603T220000Z
DTEND:20260604T220000Z
LOCATION:Localisation   
CATEGORIES:Sportif
STATUS:
DESCRIPTION:<p><strong>Responsable : Mado 
  TH</strong></p>
 
 <p><strong>TRAIN</strong></p>
URL;VALUE=URI:https://www.cascol-rando.fr/evenements/2026/06/04/niolon-la-redonne-cote-bleue-2420508
END:VEVENT
END:VCALENDAR
