BEGIN:VCALENDAR
VERSION:2.0
PRODID:-//hacksw/handcal//NONSGML v1.0//EN
BEGIN:VEVENT
SUMMARY:GRAND LARGE
UID:1179a261-2bc5-458b-9aee-f688a2765a96
DTSTART:20260607T220000Z
DTEND:20260608T220000Z
LOCATION:Localisation   
CATEGORIES:Sportif
STATUS:
DESCRIPTION:<p><strong>Responsable : Pascal 
 BE</strong></p>
 
 <p><strong>Accompagnateurs :  Jean - Marc  RO 
 ,  Luc  HU  ,  Renee  SA</strong></p>
 
 <p><strong>RDV :   
 Arkema   9 h</strong></p>
 
 <p><strong> 8,5km / D  0 
 m</strong></p>
 
 <p><b>Voiture : 14  €</b></p>
URL;VALUE=URI:https://www.cascol-rando.fr/evenements/2026/06/08/grand-large-2419859
END:VEVENT
END:VCALENDAR
