BEGIN:VCALENDAR
VERSION:2.0
PRODID:-//hacksw/handcal//NONSGML v1.0//EN
BEGIN:VEVENT
SUMMARY:MARENNES
UID:3adcd4fe-400b-449c-a7db-b2ad7878e00d
DTSTART:20260614T220000Z
DTEND:20260615T220000Z
LOCATION:Localisation   
CATEGORIES:Sportif
STATUS:
DESCRIPTION:<p><strong>Responsable : Dominique 
 GA</strong></p>
 
 <p><strong>Accompagnateurs : Jean - Marc  RO  , 
 Josiane  CE  ,  Alain  DE</strong></p>
 
 <p><strong>RDV :   
 Arkema  9  h</strong></p>
 
 <p><strong>8  km / D 165 
 m</strong></p>
 
 <p><b>Voiture : 12  €</b></p>
URL;VALUE=URI:https://www.cascol-rando.fr/evenements/2026/06/15/marennes-2419861
END:VEVENT
END:VCALENDAR
