BEGIN:VCALENDAR
VERSION:2.0
PRODID:-//hacksw/handcal//NONSGML v1.0//EN
BEGIN:VEVENT
SUMMARY:LA  SCIA  ( BEC  ET  CROIX  )
UID:116798a5-a80f-4ded-952e-899b11b46cbe
DTSTART:20260615T220000Z
DTEND:20260616T220000Z
LOCATION:Localisation   
CATEGORIES:Sportif
STATUS:
DESCRIPTION:<p><strong>Responsable : Luc 
  HU</strong></p>
 
 <p><strong>RDV :    06  h  30 
  Arkema</strong></p>
 
 <p><strong>  12  km / D  910 
  m</strong></p>
 
 <p><b>Voiture : 88  €</b></p>
URL;VALUE=URI:https://www.cascol-rando.fr/evenements/2026/06/16/la-scia-bec-et-croix-2420513
END:VEVENT
END:VCALENDAR
