BEGIN:VCALENDAR
VERSION:2.0
PRODID:-//hacksw/handcal//NONSGML v1.0//EN
BEGIN:VEVENT
SUMMARY:LES  FENEYS
UID:a1cf13cc-a34a-4cda-8ef7-7bd5176057ad
DTSTART:20260617T220000Z
DTEND:20260618T220000Z
LOCATION:Localisation   
CATEGORIES:Sportif
STATUS:
DESCRIPTION:<p><strong>Responsables :  Catherine   HU   et 
 Dominique  GA</strong></p>
 
 <p><strong>RDV : 07  h   Arkema 
  </strong></p>
 
 <p><strong>13  km / D  620 
 m</strong></p>
 
 <p><b>Voiture :  98 €</b></p>
URL;VALUE=URI:https://www.cascol-rando.fr/evenements/2026/06/18/les-feneys-2420514
END:VEVENT
END:VCALENDAR
