BEGIN:VCALENDAR
VERSION:2.0
PRODID:-//hacksw/handcal//NONSGML v1.0//EN
BEGIN:VEVENT
SUMMARY:FETE  DU  CASI  /  BACHASSE
UID:e95d24dd-c3ec-4c00-a7b3-ef545fb61fba
DTSTART:20260620T220000Z
DTEND:20260621T220000Z
LOCATION:Localisation   
CATEGORIES:Sportif
STATUS:
URL;VALUE=URI:https://www.cascol-rando.fr/evenements/2026/06/21/fete-du-casi-bachasse-2420515
END:VEVENT
END:VCALENDAR
