BEGIN:VCALENDAR
VERSION:2.0
PRODID:-//hacksw/handcal//NONSGML v1.0//EN
BEGIN:VEVENT
SUMMARY:YZERON / BOIS DE LA LIENNE
UID:c88cad7e-485b-41f5-81dc-9455f72bc26e
DTSTART:20260621T220000Z
DTEND:20260622T220000Z
LOCATION:Localisation   
CATEGORIES:Sportif
STATUS:
DESCRIPTION:<p><strong>Responsable : Jean - Marc 
 RO</strong></p>
 
 <p><strong>Accompagnateurs : Nathalie  VE  , 
 Philippe  SP  ,  Jacques  BR</strong></p>
 
 <p><strong>RDV :   
  Merlo  8 h</strong></p>
 
 <p><strong>7  km / D 195 
 m</strong></p>
 
 <p><b>Voiture : 14  €</b></p>
URL;VALUE=URI:https://www.cascol-rando.fr/evenements/2026/06/22/yzeron-bois-de-la-lienne-2419862
END:VEVENT
END:VCALENDAR
