BEGIN:VCALENDAR
VERSION:2.0
PRODID:-//hacksw/handcal//NONSGML v1.0//EN
BEGIN:VEVENT
SUMMARY:SAINT   MARTIN  DE  COAILLEUX
UID:3c7c3b4e-d4eb-4073-8b14-45f04e943a54
DTSTART:20260622T220000Z
DTEND:20260623T220000Z
LOCATION:Localisation   
CATEGORIES:Sportif
STATUS:
DESCRIPTION:<p><strong>Responsable : Jean  Marc 
 FR</strong></p>
 
 <p><strong>RDV :    07  h 
 Arkema</strong></p>
 
 <p><strong> 18 km / D   820
 m</strong></p>
 
 <p><b>Voiture : 26  €</b></p>
URL;VALUE=URI:https://www.cascol-rando.fr/evenements/2026/06/23/saint-martin-de-coailleux-2420516
END:VEVENT
END:VCALENDAR
