BEGIN:VCALENDAR
VERSION:2.0
PRODID:-//hacksw/handcal//NONSGML v1.0//EN
BEGIN:VEVENT
SUMMARY:YENNE
UID:5499e3bf-97df-4a96-8b3c-c709d891837d
DTSTART:20260624T220000Z
DTEND:20260625T220000Z
LOCATION:Localisation   
CATEGORIES:Sportif
STATUS:
DESCRIPTION:<p><strong>Responsable : Sylviane 
 LI</strong></p>
 
 <p><strong>RDV :  07 h 
  Arkema  </strong></p>
 
 <p><strong>16  km / D   550
 m</strong></p>
 
 <p><b>Voiture :75  €</b></p>
URL;VALUE=URI:https://www.cascol-rando.fr/evenements/2026/06/25/yenne-2420518
END:VEVENT
END:VCALENDAR
