BEGIN:VCALENDAR
VERSION:2.0
PRODID:-//hacksw/handcal//NONSGML v1.0//EN
BEGIN:VEVENT
SUMMARY:L ' ARCALOD ( BAUGES )
UID:38d3c8f0-aff6-4f17-beeb-971de0cc3d66
DTSTART:20260629T220000Z
DTEND:20260630T220000Z
LOCATION:Localisation   
CATEGORIES:Sportif
STATUS:
DESCRIPTION:<p><strong>Responsable : Chantal 
 BA</strong></p>
 
 <p><strong>RDV :    06 h 30 
  Arkema</strong></p>
 
 <p><strong> 12  km / D  1200
 m</strong></p>
 
 <p><b>Voiture : 112 €</b></p>
URL;VALUE=URI:https://www.cascol-rando.fr/evenements/2026/06/30/l-arcalod-bauges-2420519
END:VEVENT
END:VCALENDAR
